BEGIN:VCALENDAR
VERSION:2.0
PRODID:-//Notranja Moč - ECPv6.7.0//NONSGML v1.0//EN
CALSCALE:GREGORIAN
METHOD:PUBLISH
X-WR-CALNAME:Notranja Moč
X-ORIGINAL-URL:https://notranjamoc.com
X-WR-CALDESC:Events for Notranja Moč
REFRESH-INTERVAL;VALUE=DURATION:PT1H
X-Robots-Tag:noindex
X-PUBLISHED-TTL:PT1H
BEGIN:VTIMEZONE
TZID:Europe/Ljubljana
BEGIN:DAYLIGHT
TZOFFSETFROM:+0100
TZOFFSETTO:+0200
TZNAME:CEST
DTSTART:20210328T010000
END:DAYLIGHT
BEGIN:STANDARD
TZOFFSETFROM:+0200
TZOFFSETTO:+0100
TZNAME:CET
DTSTART:20211031T010000
END:STANDARD
END:VTIMEZONE
BEGIN:VEVENT
DTSTART;TZID=Europe/Ljubljana:20210502T200000
DTEND;TZID=Europe/Ljubljana:20210523T202000
DTSTAMP:20260423T131341
CREATED:20210126T110703Z
LAST-MODIFIED:20210426T092609Z
UID:2997-1619985600-1621801200@notranjamoc.com
SUMMARY:Anitina ENERGIJSKA injekcija MAJ - Ljubezen je v zraku. Prejmi jo!
DESCRIPTION:Čudovite energije maja so pred vrati. Želijo vstopiti v naša srca. O\, kako se jih veselim. Nagovorile so me\, da v energijski injekcijah\, mojih nedeljskih dogodkih raziščemo\, kako in koliko smo voljni prejeti ljubezni v svoje življenje. 💑 \n💗Je tvoje srce odprto zanjo ali imaš toliko ran\, da ji ne zaupaš več\, ko potrka na tvoja vrata?\n💗Bi izbral-a ozdravitev srca in srčne vibracije?  \nIzstreli se v nov teden z brezmejno energijsko podporo!\nPredvsem bo moj fokus na tem\, da vam pomagam\, da počistimo nevidne čustvene in energijske vzorce\, ki vas držijo zataknjene. Pogosto iz navidez nerazumnih razlogov ohranjamo rušilna stanja\, ker je tako “prav”\, ker to služi nečemu\, kar nezavedno mislimo\, da je “dobro” za nas. \nZato sem z navdušenjem pripravila program “ANITINE ENERGIJSKE INJEKCIJE” da dobite potreben zagon energije za vaše pomembne projekte\, ki vas čakajo v prihajajočem tednu. Vsak mesec se posvetimo drugemu življenjskemu področju z namenom\, da ga nadgradite. Želim si\, da čim več ljudi zaživi svobodo\, najde zaupanje vase\, da zmore kreirati zdravje\, radost\, veselje\, denar\, na celovit način in se v svojem življenju dobro počutiti. Program sestavljajo energijsko močna srečanja vsako nedeljo zvečer. \nKako poteka on line delavnica?\nTo je avtorski pristop Anite Kejžar Škulj.\nVibra spa – reading polja\, aktivacija podpornih frekvenc in negujočih energij. \n\n \nV uvodu bom podala nekaj informacij o temi meseca… Na ta način bomo že pričeli proces otvarjanja procesa čiščenja in kreiranja. Ko bo osnova postavljena\, vas bom povabila\, da se prepustite energijski meditaciji.\nMed procesom uživate v prejemanju negujočih frekvenc\, medtem ko “berem” polje skupine.\nPrimerno tudi za začetnike.\nDa bo učinek zares največji\, vas bom povabila\, da mi napišete mail z vprašanjem\, opisom vaše aktualne situacije\, da sproti očistimo omejitve\, misli\, prepričanja\, sodbe\, ki jih imate o aktualni tematiki….\n\nVaš prispevek:  \n– 30 € za 1 mesec\nDruženje traja 20 minut. \nPomembno:  \nVedno prejmete Mp3 posnetek za poslušanje\, ko ustreza vam. Tako ni skrbi\, da bi kaj zamudili\, tudi če kdaj ne morete priti v živo.\nČe se v svojem življenju ne počutiš zadovoljno\, lahkotno\, izpopolnjeno\, to pomeni\, da te zavirajo tvoje blokade. Ponujam ti priložnost\, da se razbremeniš svojih notranjih ovir in začneš lahkotno ustvarjati življenje\, za katerega veš\, da je mogoče. Prijavi se na delavnico še danes!\nPOŠLJI SVOJO PRIJAVO NA infoanita@notranjamoc.com!Tako enostavno\, a tako neverjetno učinkovito!\nTisti\, ki so delavnice Anite Kejžar Škulj že preizkusili\, so živ dokaz za to\, kakšne spremembe so mogoče: \nFanči je zapisala:Zelo sem zadovoljna\, da nedeljske večere preživljam s tabo in skupino. Se mi pa po teh injekcijah vsakič zgodi\,da sem polna energije in težko zaspim:) Najbrž bi mogla oditi plesat.😃\nTudi Alenka je delila svojo zgodbo:Pri meni so bile tako močne energije\, da mi je še internet podrlo😃Ampak res\, zadnjih par minut mi internet ni deloval\, sploh nisem vedela kdaj zaključit\, telo mi je oblivala vročica. Vmes sem še slišala\, da se bo v telesu morda še kaj dogajalo….in se je.\nMarjana pa je izkustva po mesečnih srečanjih doživljala takole:Vedno manj sem v pričakovanjih. Končno\, da bolj spuščam iz uma. Sem bolj povezana s sabo\, ampak predvsem zaradi vsega\, kar sem prejela z injekcijami\, vsega dela s tabo…Kar si me naučila.\nZa udeležbo na delavnici je potrebno predhodno poslati prijavo na e-naslov infoanita@notranjamoc.com.\nPlačilo za udeležbo lahko poravnate s plačilom preko Paypala (izberite svojo opcijo spodaj in kliknite na gumb PLAČAJ)\, možno pa je tudi plačilo po predračunu (napišite to v mejlu za prijavo).\n \nPRIJAVA NA DELAVNICO - 1 mesec EUR30 Delavnica “ENERGIJSKA INJEKCIJA”Plačajte preko Paypala! \nPOŠLJI SVOJO PRIJAVO NA infoanita@notranjamoc.com!×\n\n  \n\n\n\n\n\n\n\n\n\n\n\n	\n		\n		 \n		Pošljite mi svojo prijavo\n		 \n		\n		 \n		\n		 \n		Vaše podatke bomo obravnavali zaupno.\n		 \n		\n		 \n		\n		\n		 \n		\n		 \n	\n×
URL:https://notranjamoc.com/dogodek/anitina-energijska-injekcija-maj-ljubezen-je-v-zraku-prejmi-jo/
LOCATION:Online
CATEGORIES:Delavnice
ATTACH;FMTTYPE=image/png:https://notranjamoc.com/wp-content/uploads/2021/01/Pomnozi-si-obilje-8.png
ORGANIZER;CN="Notranja mo%C4%8D - center za razvoj %C4%8Dlove%C5%A1kih potencialov":MAILTO:infoanita@notranjamoc.com
END:VEVENT
BEGIN:VEVENT
DTSTART;TZID=Europe/Ljubljana:20210401T203000
DTEND;TZID=Europe/Ljubljana:20210421T211500
DTSTAMP:20260423T131341
CREATED:20210316T162722Z
LAST-MODIFIED:20210320T055610Z
UID:3079-1617309000-1619039700@notranjamoc.com
SUMMARY:21 dnevni izziv - "Odpikaj norosti uma\, zaživi miren spanec" za lahkotnost\, svobodo in jasnost vsakega dne
DESCRIPTION:Vas ljudje\, dogodki spravljajo ob živce in potem ne morete nehati misliti nanje? Ste tudi vi eni tistih\, ki kar naprej nekaj razmišljate in si ne date miru niti ponoči? Opazujete norosti okoli sebe in se sprašujete\, kdo je tu zares nor\, ko vam skušajo pod mizo prodati neresnico – v partnerstvu\, službi\, z denarjem\, zdravjem…? Počnete vedno iste stvari in pričakujete drugačen rezultat\, kar je po Einstainu definicija norosti?  \nOdkleni možnosti za lahkotnost\, svobodo in jasnost vsakega dne…. \nKako bi izgledalo vaše življenje\, če bi imeli več:\n– miru v svoji glavi\, \n– bistrih in jasnih misli\, \n– bi se zvečer hitro potopili v trden spanec\,\n– bi se zjutraj zbujali naspani\, sveži in spočiti\,\n– se ne bi več zapletali v borbo z manipulatorji in bili pod njihovim vplivom\, doma\, v službi\, družbeno\,\n– bi dihali svobodno s polnimi pljuči\,\n– živeli brez tesnobe\,\n– si ustvarili polno življenje… \nKaj je naša tarča?\nRaziskali bomo\, kje vse in s čim vse kupujemo in ustvarjamo norosti. Norost z denarjem\, norost s službo\, norost z zdravjem\, telesom\, partnerstvom\, odnosi…Norost ima lahko vpliv nad nami vse dokler se tega ne ozavemo. Pri spremembi nam bo v pomoč NORA FRAZA: “Nič ni tako\, kot se prikazuje\, vse je tako\, kot se prikazuje.” To pragmatično orodje Access Consciousnessa uporabljamo za enostavno spreminjanje resničnosti. Skrivnost je v tem\, da “nora fraza” deluje le\, če postanemo te energije. 21 dni jo bomo skupaj raziskovali in to tudi postajali. \nSpuščali boste navajenost na premlevanje\, prekomerno razmišljanje\, sabotiranje samih sebe\, ko se zapletate v zanke uma. Hkrati se bo opuščala anksioznost\, teža\, depresijo\, žalost\, stres\, tesnobo\, pomanjkanje… Postajali boste energije jasnosti\, svobode\, lahkosti\, radosti in polnosti življenja. Odklenili boste možnosti in priložnosti\, ki so do sedaj delovale nemogoče\, oddaljene in si jih približevali. Naučili se boste preproste tehnike za zmanjšanje stresa\, ki jo boste z veseljem uporabljali celo življenje. \nZakaj 21 dni? Zakaj skupina?\n“Večina ljudi si da zaobljubo\, da bo novo veščino trenirala\, potem pa po nekaj dneh odneha. Tu je prilika\, da vzamete skupinsko energijo\, kot pospeševalca spremembe in si dodobra natrenirate energijsko mišico lahkosti\, radosti in veličastnosti – obilja življenja in odklenete možnosti in priložnosti. \nMoje delavnice potekajo v soustvarjanju z udeleženci\, dinamično\, interaktivno\, zato so tako močne\, da delujejo tudi za tiste\, ki se jih udeležijo samostojno\, kasneje. Delamo različne energijske vaje\, ki jih prilagajam skupini\, postavljam vprašanja in izvajam clearinge podzavestnih omejitev\, bustamo kreativno energijo obilja… \nZato sem z navdušenjem pripravila program\, 21 dni izziva\, da dobite potrebno motivacijo\, zagon energije in posežete po zastavljenih življenjskih tarčah. Želim si\, da čim več ljudi zaživi več sebe\, uresniči svoje potenciale in s tem kreira bolj izpolnjeno življenje. \nKako poteka 21 dnevni izziv?\nTo je avtorska delavnica Anite Kejžar Škulj\, coachinja in specialistka za osebno rast z več kot 20. letnimi izkušnjami. \n\n21 dni zapored se srečujemo on line. Vsak dan se bomo posvetli eni temi in vprašanjem\, ki mi jih bodo zastavljali udeleženci izziva…. Na ta način se že prične proces spreminjanja podzavestnih omejitev. Ko je osnova postavljena\, nadaljujemo s preprosto energijsko vajo. Primerno tudi za začetnike.\nDa je učinek zares največji\, vas povabim v coaching\, da sproti očistimo omejitve\, misli\, prepričanja\, sodbe\, ki jih imate o sebi in življenju. Skupaj kreiramo energijo nove\, večje resničnosti\, ki se že začne prikazovati bolj ali manj očitno vsak dan…\nDruženje traja 30-45 minut in se vedno prilagajajo skupini. \nKaj če se ne morete vedno udeležiti? Ali bodo posnetki?\n\nS prijavo v program prejmete Mp3 posnetke. Če kdaj ne pridete\, vaje izvajate samostojno v času\, kot vam odgovarja. Posnetki so kreirani z namenom\, da delujejo brezčasno. Da super delujejo tudi kasneje\, ko izziv enkrat že teče ali po zaključku\, potrjujejo mnoge navdušujoče izjave udeležencev prejšnjih izzivov.\n\nSte novi na zoomu\, spletni platformi za druženje?\n\nBrez skrbi\, je lahko. Potrebno si je naložiti aplikacijo na telefon ali računalnik\, klikniti povezavo in že se znajdete v skupini istomislečih (pošljem dodatne informacije\, kako se to naredi ob prijavi).\nPrispevek za vseh 21 dni je le 35 €\n\nPrispevek za 21 delavnic je simboličen in je primerljiva z zneskom\, ki jo plačate za eno kavica na dan. Investicija časa\, denarja in energije v svojo transformacijo lahko prinese leto novih priložnosti in možnosti\, ki jih do sedaj še ni bilo.\nZa take delavnice sama plačujem preko 500 € s coachi in mentorji iz tujine\, vam pa jo ponujam za smešno noro ceno. Naj denar ne bo izgovor\, da ne naredite spremembe in povečate obilje vseh vrst. \nČe se v svojem življenju ne počutiš zadovoljno\, lahkotno\, izpopolnjeno\, to pomeni\, da te zavirajo tvoje blokade. Ponujam ti priložnost\, da se razbremeniš svojih notranjih ovir in začneš lahkotno ustvarjati življenje\, za katerega veš\, da je mogoče. Prijavi se na delavnico še danes!\nPOŠLJI SVOJO PRIJAVO NA infoanita@notranjamoc.com!Tako enostavno\, a tako neverjetno učinkovito!\nTisti\, ki so delavnice Anite Kejžar Škulj že preizkusili\, so živ dokaz za to\, kakšne spremembe so mogoče: \nAlenka je izkustva po več izzivih strnila:Meni tvoji izzivi zelo koristijo\, včasih direktno ali pa tudi po daljšem času. Važno zame je\, da sem se začela miselno premikat\, počasi ampak gre\, zato ostajam v povezavi s teboj in skupino. Po zadnjem izzivu moram reči\, da\, če je bila zame hvaležnost abstrakten pojem\, sem sedaj postala prijateljica z njo in jo uporabljam vsak dan. Hvala za vse!\nTudi Jelka je delila svojo zgodbo:Anita živijo\, tole včeraj je bil zame kar premik\, miselno\, energijsko\, v vseh pogledih in to\, da dopustim\, da mi ni potrebno toliko delati\, ampak da sem prišla na to zemljo/planet KREIRAT :). Čisto druga energija. \nHvala Anita za take premike\, samo ozaveščat moram zakaj sem tukaj in spuščat vse\, kar to ni. Kako je lahko še boljše kot to????  \nKarolina pa je zapisala:Danes zjutraj sem po tuširanju po dooolgem času uspela s kremo namazati svoje telo\, saj se ga nisem bala in sem ga sprejela. \nDolgo časa sem se izogibala pogleda na telo\, saj me je bilo strah\, da bom našla na koži ali v dojkah ali … kakšen znak bolezni. \nHvala za včerajšnjo delavnico. \nDeluje!😃 \nZa udeležbo na 21 dnevnem izzivu je potrebno predhodno poslati prijavo na e-naslov infoanita@notranjamoc.com.\nPlačilo za udeležbo lahko poravnate s plačilom preko Paypala (izberite svojo opcijo spodaj in kliknite na gumb PLAČAJ)\, možno pa je tudi plačilo po predračunu (napišite to v mejlu za prijavo).\n\nPRIJAVA NA 21 DNEVNI IZZIV EUR35“ODPIKAJ NORI UM”\nPlačajte preko Paypala!\n \nPOŠLJI SVOJO PRIJAVO NA infoanita@notranjamoc.com!×\n\n  \n\n\n\n\n\n\n\n\n\n\n\n	\n		\n		 \n		Pošljite mi svojo prijavo\n		 \n		\n		 \n		\n		 \n		Vaše podatke bomo obravnavali zaupno.\n		 \n		\n		 \n		\n		\n		 \n		\n		 \n	\n×
URL:https://notranjamoc.com/dogodek/21-dnevni-izziv-odpikaj-norosti-uma-zazivi-miren-spanec-za-lahkotnost-svobodo-in-jasnost-vsakega-dne/
LOCATION:Online
CATEGORIES:Delavnice
ATTACH;FMTTYPE=image/png:https://notranjamoc.com/wp-content/uploads/2021/03/odkleni-moznosti-in-priloznosti-12.png
ORGANIZER;CN="Notranja mo%C4%8D - center za razvoj %C4%8Dlove%C5%A1kih potencialov":MAILTO:infoanita@notranjamoc.com
END:VEVENT
END:VCALENDAR